BEGIN:VCALENDAR
VERSION:2.0
PRODID:-//formaciondigitalia.es - ECPv6.15.13.1//NONSGML v1.0//EN
CALSCALE:GREGORIAN
METHOD:PUBLISH
X-ORIGINAL-URL:https://formaciondigitalia.es
X-WR-CALDESC:Eventos para formaciondigitalia.es
REFRESH-INTERVAL;VALUE=DURATION:PT1H
X-Robots-Tag:noindex
X-PUBLISHED-TTL:PT1H
BEGIN:VTIMEZONE
TZID:UTC
BEGIN:STANDARD
TZOFFSETFROM:+0000
TZOFFSETTO:+0000
TZNAME:UTC
DTSTART:20200101T000000
END:STANDARD
END:VTIMEZONE
BEGIN:VEVENT
DTSTART;TZID=UTC:20210630T080000
DTEND;TZID=UTC:20210630T170000
DTSTAMP:20260420T140700
CREATED:20210408T121224Z
LAST-MODIFIED:20250511T234310Z
UID:10465-1625040000-1625072400@formaciondigitalia.es
SUMMARY:Eventos abiertos para estudiantes de pregrado de Kingston College 2020-2021
DESCRIPTION:Descripción del evento \n¿Quieres convertirte en diseñador UI/UX pero no sabes por dónde empezar? Este curso te permitirá desarrollar tus habilidades de diseño de interfaz de usuario (UI). Podrás añadir la palabra «diseñador UI» a tu CV y ​​empezar a conseguir clientes. \nHola a todos. Soy Arash y soy diseñador UI/UX. En este curso\, te ayudaré a aprender y dominar la app Figma desde cero. Figma es una herramienta innovadora y brillante para el diseño de interfaz de usuario. La utilizan desde emprendedores y startups hasta Apple\, Airbnb\, Facebook\, etc. \nLeer más \nQué aprenderás \nConviértete en diseñador UI/UX.\nPodrás empezar a ganar dinero.\nDesarrolla un proyecto UI de principio a fin.\nTrabaja con colores y tipografías.\nCrea tu propio kit UI.\nDesarrolla y prueba una app móvil completa.\nAprende a diseñar apps móviles y sitios web.\nDiseña 3 logotipos diferentes.\nCrea wireframes de baja fidelidad. Archivos de ejercicios descargables.\nRequisitos \nNo se requiere experiencia previa ni habilidades predefinidas para realizar este curso. Una buena orientación es suficiente para dominar el diseño UI/UX.\nUn ordenador con buena conexión a internet.\nAdobe Photoshop (OPCIONAL)
URL:https://formaciondigitalia.es/evento/kingston-college-undergraduate-open-events-2020-2021/
ATTACH;FMTTYPE=image/jpeg:https://formaciondigitalia.es/wp-content/uploads/2021/04/post-2.jpg
END:VEVENT
BEGIN:VEVENT
DTSTART;TZID=UTC:20210630T080000
DTEND;TZID=UTC:20210630T170000
DTSTAMP:20260420T140700
CREATED:20210408T120954Z
LAST-MODIFIED:20250511T234338Z
UID:10462-1625040000-1625072400@formaciondigitalia.es
SUMMARY:Protección en Lambeth: Comprender el daño contextual
DESCRIPTION:Descripción del evento \n¿Quieres convertirte en diseñador UI/UX pero no sabes por dónde empezar? Este curso te permitirá desarrollar tus habilidades de diseño de interfaz de usuario (UI). Podrás añadir la palabra «diseñador UI» a tu CV y ​​empezar a conseguir clientes. \nHola a todos. Soy Arash y soy diseñador UI/UX. En este curso\, te ayudaré a aprender y dominar la app Figma desde cero. Figma es una herramienta innovadora y brillante para el diseño de interfaz de usuario. La utilizan desde emprendedores y startups hasta Apple\, Airbnb\, Facebook\, etc. \nLeer más \nQué aprenderás \nConviértete en diseñador UI/UX.\nPodrás empezar a ganar dinero.\nDesarrolla un proyecto UI de principio a fin.\nTrabaja con colores y tipografías.\nCrea tu propio kit UI.\nDesarrolla y prueba una app móvil completa.\nAprende a diseñar apps móviles y sitios web.\nDiseña 3 logotipos diferentes.\nCrea wireframes de baja fidelidad. Archivos de ejercicios descargables.\nRequisitos \nNo se requiere experiencia previa ni habilidades predefinidas para realizar este curso. Una buena orientación es suficiente para dominar el diseño UI/UX.\nUn ordenador con buena conexión a internet.\nAdobe Photoshop (OPCIONAL)
URL:https://formaciondigitalia.es/evento/lambeth-safeguarding-understanding-contextual-harm-2/
ATTACH;FMTTYPE=image/jpeg:https://formaciondigitalia.es/wp-content/uploads/2021/04/photo-1-1.jpg
END:VEVENT
END:VCALENDAR